BEGIN:VCALENDAR
VERSION:2.0
PRODID:icalendar-ruby
CALSCALE:GREGORIAN
METHOD:PUBLISH
BEGIN:VEVENT
DTSTAMP:20260423T113340Z
UID:92-633902@christthevictor.net
DTSTART:20260426T173000Z
DTEND:20260427T063000Z
CLASS:PUBLIC
CREATED:20260422T201915
DESCRIPTION:
LAST-MODIFIED:20260422T201915
LOCATION:Christ The Victor - Flex Room
SUMMARY:Adult Bible Class
URL;VALUE=URI:https://www.christthevictor.net/events/adult-bible-class/2026
 -04-26
ATTACH;FILENAME=ChatGPT-Image-Apr-22-2026-01_49_14-PM.png;FMTTYPE=image/png
 :https://dq5pwpg1q8ru0.cloudfront.net/2026/04/22/21/01/37/72847ca9-fdf2-4a
 58-a8f4-3ba2da52f08c/ChatGPT-Image-Apr-22-2026-01_49_14-PM.png
END:VEVENT
END:VCALENDAR
