BEGIN:VCALENDAR
VERSION:2.0
PRODID:icalendar-ruby
CALSCALE:GREGORIAN
METHOD:PUBLISH
BEGIN:VEVENT
DTSTAMP:20260423T195122Z
UID:92-636032@christthevictor.net
DTSTART:20260531T173000Z
DTEND:20260601T063000Z
CLASS:PUBLIC
CREATED:20260423T113857
DESCRIPTION:
LAST-MODIFIED:20260423T113857
LOCATION:Christ The Victor - Flex Room
SUMMARY:Adult Bible Class
URL;VALUE=URI:https://www.christthevictor.net/events/adult-bible-class/2026
 -05-31
ATTACH;FILENAME=ChatGPT-Image-Apr-22-2026-01_49_14-PM.png;FMTTYPE=image/png
 :https://dq5pwpg1q8ru0.cloudfront.net/2026/04/22/21/01/37/72847ca9-fdf2-4a
 58-a8f4-3ba2da52f08c/ChatGPT-Image-Apr-22-2026-01_49_14-PM.png
END:VEVENT
END:VCALENDAR
