BEGIN:VCALENDAR
VERSION:2.0
PRODID:icalendar-ruby
CALSCALE:GREGORIAN
METHOD:PUBLISH
BEGIN:VEVENT
DTSTAMP:20260423T115913Z
UID:91-631681@christthevictor.net
DTSTART:20260424T003000Z
DTEND:20260424T020000Z
CLASS:PUBLIC
CREATED:20260422T135450
DESCRIPTION:What an incredible blessing our first Deep Dish gathering was! 
 We were so grateful to welcome 27 amazing women who came together for an e
 vening of fellowship\, encouragement\, and faith. We were deeply moved by 
 the powerful testimony shared by Leean Mendoza — you could truly feel Ch
 rist’s presence in the room. Tears were shed\, hearts were touched\, and
  it was a beautiful reminder of how God works through our stories.\nOf cou
 rse\, no Deep Dish would be complete without great food — and we had a T
 ON of it! The potluck table was overflowing with delicious dishes\, and th
 e fellowship around the table was just as nourishing.\nDuring the evening\
 , we also created the cutest door hangers\, and it was such a meaningful e
 xperience to see how each woman added her own unique touch. Even the simpl
 est craft became a beautiful reflection of how God created each of us diff
 erently — all unique\, all gifted\, all beautiful.\nNow we’re excited 
 to look ahead to our next gathering!\nOur April Deep Dish Ladies Event\, t
 hemed “When Life Gives You Lemons…”\, will be held on:\n Thursday\, 
 April 23rd\n 5:30 PM – 7:30 PM\n Christ the Victor\nThe evening will inc
 lude a devotional\, prayer\, guest speaker\, craft\, and potluck dinner. P
 lease RSVP and bring a side dish to share.\nThis is also a wonderful oppor
 tunity to invite a friend\, especially someone who may not attend church o
 r who has not yet begun a relationship with Jesus. You never know when som
 eone else’s story might be exactly what God uses to inspire another pers
 on to begin their own walk with Christ.\nIf you need a ride or have diffic
 ulty driving at night\, please reach out to ChurchOffice@ChristTheVictor.n
 et so we can coordinate transportation for you.\nWe also want to encourage
  you to remember that every single one of us has a story. Sometimes we don
 ’t realize how our experiences can inspire and encourage others. If you 
 feel led to share your testimony at a future Deep Dish event\, we would lo
 ve to talk with you. We have many themes planned and are currently schedul
 ing speakers.\nPlease reach out to Katie LaCoste\, Kathy Leaman\, or Leean
  Mendoza for more information.\nWe are so excited to see how God continues
  to grow this beautiful community of women.\nhttps://www.signupgenius.com/
 go/10C0844AAAA2AA4F8C34-63021808-deep
LAST-MODIFIED:20260422T135450
LOCATION:CTV - Fellowship Hall
SUMMARY:Deep Dish Ladies Event
URL;VALUE=URI:https://www.christthevictor.net/events/deep-dish-ladies-event
 /2026-04-23
ATTACH;FILENAME=April_DeepDish.png;FMTTYPE=image/png:https://dq5pwpg1q8ru0.
 cloudfront.net/2026/04/22/20/52/30/0800d754-b9f7-4d33-a9a3-374a6b7a9369/Ap
 ril_DeepDish.png
ATTACH;FILENAME=ChatGPT-Image-Apr-22-2026-01_53_43-PM.png;FMTTYPE=image/png
 :https://dq5pwpg1q8ru0.cloudfront.net/2026/04/22/20/54/50/72b67a70-d316-4e
 10-abb5-7f051a3273b7/ChatGPT-Image-Apr-22-2026-01_53_43-PM.png
END:VEVENT
END:VCALENDAR
