BEGIN:VCALENDAR
VERSION:2.0
PRODID:icalendar-ruby
CALSCALE:GREGORIAN
METHOD:PUBLISH
BEGIN:VEVENT
DTSTAMP:20260423T172731Z
UID:89-635266@christthevictor.net
DTSTART:20260524T170000Z
DTEND:20260524T173000Z
CLASS:PUBLIC
CREATED:20260423T084152
DESCRIPTION:
LAST-MODIFIED:20260423T084152
LOCATION:CTV - Fellowship Hall
SUMMARY:Fellowship & Refreshments
URL;VALUE=URI:https://www.christthevictor.net/events/fellowship-refreshment
 s--89/2026-05-24
ATTACH;FILENAME=ChatGPT-Image-Apr-22-2026-01_15_16-PM.png;FMTTYPE=image/png
 :https://dq5pwpg1q8ru0.cloudfront.net/2026/04/22/20/16/01/74b2c1ad-e469-47
 06-928b-dd518747f7d1/ChatGPT-Image-Apr-22-2026-01_15_16-PM.png
END:VEVENT
END:VCALENDAR
