BEGIN:VCALENDAR
VERSION:2.0
PRODID:icalendar-ruby
CALSCALE:GREGORIAN
METHOD:PUBLISH
BEGIN:VEVENT
DTSTAMP:20260423T135741Z
UID:15-634005@christthevictor.net
DTSTART:20260920T160000Z
DTEND:20260920T163000Z
CLASS:PUBLIC
CREATED:20260423T054931
DESCRIPTION:Fellowship &amp\; Refreshments
LAST-MODIFIED:20260423T054931
LOCATION:Christ The Victor - Fellowship Hall
SUMMARY:Fellowship & Refreshments
URL;VALUE=URI:https://www.christthevictor.net/events/fellowship-refreshment
 s/2026-09-20
END:VEVENT
END:VCALENDAR
