BEGIN:VCALENDAR
VERSION:2.0
PRODID:icalendar-ruby
CALSCALE:GREGORIAN
METHOD:PUBLISH
BEGIN:VEVENT
DTSTAMP:20260423T195116Z
UID:15-635425@christthevictor.net
DTSTART:20261018T160000Z
DTEND:20261018T163000Z
CLASS:PUBLIC
CREATED:20260423T113855
DESCRIPTION:Fellowship &amp\; Refreshments
LAST-MODIFIED:20260423T113855
LOCATION:Christ The Victor - Fellowship Hall
SUMMARY:Fellowship & Refreshments
URL;VALUE=URI:https://www.christthevictor.net/events/fellowship-refreshment
 s/2026-10-18
END:VEVENT
END:VCALENDAR
