BEGIN:VCALENDAR
VERSION:2.0
PRODID:icalendar-ruby
CALSCALE:GREGORIAN
METHOD:PUBLISH
BEGIN:VEVENT
DTSTAMP:20260423T225321Z
UID:15-636136@christthevictor.net
DTSTART:20261101T160000Z
DTEND:20261101T163000Z
CLASS:PUBLIC
CREATED:20260423T143325
DESCRIPTION:Fellowship &amp\; Refreshments
LAST-MODIFIED:20260423T143325
LOCATION:Christ The Victor - Fellowship Hall
SUMMARY:Fellowship & Refreshments
URL;VALUE=URI:https://www.christthevictor.net/events/fellowship-refreshment
 s/2026-11-01
END:VEVENT
END:VCALENDAR
