BEGIN:VCALENDAR
VERSION:2.0
PRODID:icalendar-ruby
CALSCALE:GREGORIAN
METHOD:PUBLISH
BEGIN:VEVENT
DTSTAMP:20260424T045955Z
UID:15-637558@christthevictor.net
DTSTART:20261129T160000Z
DTEND:20261129T163000Z
CLASS:PUBLIC
CREATED:20260423T202105
DESCRIPTION:Fellowship &amp\; Refreshments
LAST-MODIFIED:20260423T202105
LOCATION:Christ The Victor - Fellowship Hall
SUMMARY:Fellowship & Refreshments
URL;VALUE=URI:https://www.christthevictor.net/events/fellowship-refreshment
 s/2026-11-29
END:VEVENT
END:VCALENDAR
