BEGIN:VCALENDAR
VERSION:2.0
PRODID:icalendar-ruby
CALSCALE:GREGORIAN
METHOD:PUBLISH
BEGIN:VEVENT
DTSTAMP:20260424T120018Z
UID:15-637562@christthevictor.net
DTSTART:20261227T160000Z
DTEND:20261227T163000Z
CLASS:PUBLIC
CREATED:20260423T202105
DESCRIPTION:Fellowship &amp\; Refreshments
LAST-MODIFIED:20260423T202105
LOCATION:Christ The Victor - Fellowship Hall
SUMMARY:Fellowship & Refreshments
URL;VALUE=URI:https://www.christthevictor.net/events/fellowship-refreshment
 s/2026-12-27
END:VEVENT
END:VCALENDAR
