BEGIN:VCALENDAR
VERSION:2.0
PRODID:icalendar-ruby
CALSCALE:GREGORIAN
METHOD:PUBLISH
BEGIN:VEVENT
DTSTAMP:20260424T133952Z
UID:15-638272@christthevictor.net
DTSTART:20270103T160000Z
DTEND:20270103T163000Z
CLASS:PUBLIC
CREATED:20260424T054906
DESCRIPTION:Fellowship &amp\; Refreshments
LAST-MODIFIED:20260424T054906
LOCATION:Christ The Victor - Fellowship Hall
SUMMARY:Fellowship & Refreshments
URL;VALUE=URI:https://www.christthevictor.net/events/fellowship-refreshment
 s/2027-01-03
END:VEVENT
END:VCALENDAR
