BEGIN:VCALENDAR
VERSION:2.0
PRODID:icalendar-ruby
CALSCALE:GREGORIAN
METHOD:PUBLISH
BEGIN:VEVENT
DTSTAMP:20260424T234446Z
UID:15-640425@christthevictor.net
DTSTART:20270221T160000Z
DTEND:20270221T163000Z
CLASS:PUBLIC
CREATED:20260424T141509
DESCRIPTION:Fellowship &amp\; Refreshments
LAST-MODIFIED:20260424T141509
LOCATION:Christ The Victor - Fellowship Hall
SUMMARY:Fellowship & Refreshments
URL;VALUE=URI:https://www.christthevictor.net/events/fellowship-refreshment
 s/2027-02-21
END:VEVENT
END:VCALENDAR
