BEGIN:VCALENDAR
VERSION:2.0
PRODID:icalendar-ruby
CALSCALE:GREGORIAN
METHOD:PUBLISH
BEGIN:VEVENT
DTSTAMP:20260425T010358Z
UID:15-641154@christthevictor.net
DTSTART:20270228T160000Z
DTEND:20270228T163000Z
CLASS:PUBLIC
CREATED:20260424T170252
DESCRIPTION:Fellowship &amp\; Refreshments
LAST-MODIFIED:20260424T170252
LOCATION:Christ The Victor - Fellowship Hall
SUMMARY:Fellowship & Refreshments
URL;VALUE=URI:https://www.christthevictor.net/events/fellowship-refreshment
 s/2027-02-28
END:VEVENT
END:VCALENDAR
