BEGIN:VCALENDAR
VERSION:2.0
PRODID:icalendar-ruby
CALSCALE:GREGORIAN
METHOD:PUBLISH
BEGIN:VEVENT
DTSTAMP:20260424T151319Z
UID:41-638650@christthevictor.net
DTSTART:20260917T153000Z
DTEND:20260917T173000Z
CLASS:PUBLIC
CREATED:20260424T054907
DESCRIPTION:Our Food Pantry continues to be a lifeline for families in our 
 community\, and your generosity helps keep the shelves stocked and hearts 
 encouraged — especially as we enter the holiday season.\n Food Pantry Ho
 urs Reminder\n Our new permanent hours are:\n Tuesdays &amp\; Thursdays\, 
 8:30–10:30 AM (year-round)\n Want to Volunteer?\n If you’d like to hel
 p\, please arrive by 8:15 AM.\n Whether it’s sorting\, stocking\, or ser
 ving\, there’s always a place for you!\n We’re also looking for volunt
 eers with computer skills\, so let us know if you can assist in that area.
 \nThank you for being the hands and feet of Jesus in our community. Togeth
 er\, we’re sharing hope through food\, friendship\, and faith.
LAST-MODIFIED:20260424T054907
LOCATION:CTV
SUMMARY:Food Pantry
URL;VALUE=URI:https://www.christthevictor.net/events/food-pantry/2026-09-17
ATTACH;FILENAME=FoodPantry-8494.jpg;FMTTYPE=image/jpeg:https://dq5pwpg1q8ru
 0.cloudfront.net/2026/01/21/23/57/49/1b2f2d59-f7f5-4871-882e-90f8f8f6c87e/
 FoodPantry-8494.jpg
END:VEVENT
END:VCALENDAR
