BEGIN:VCALENDAR
VERSION:2.0
PRODID:icalendar-ruby
CALSCALE:GREGORIAN
METHOD:PUBLISH
BEGIN:VEVENT
DTSTAMP:20260423T113611Z
UID:94-631807@christthevictor.net
DTSTART:20260425T150000Z
DTEND:20260425T170000Z
CLASS:PUBLIC
CREATED:20260422T141140
DESCRIPTION:It’s time once again for our church family to roll up our sle
 eves and care for our community through our Highway Clean-Up!\nJoin us on 
 Saturday\, April 25th at 8:00 AM as we gather at Christ the Victor to serv
 e together and make a difference.\n We’ll meet in the Fellowship Hall fo
 r donuts and coffee before heading over to the clean-up site.\n Be sure to
  RSVP  here so we can plan for supplies and refreshments:\nhttps://www.si
 gnupgenius.com/go/10C0844AAAA2AA4F8C34-63512139-highway\nThis is a great o
 pportunity to serve side by side\, show love to our neighbors\, and care f
 or the place God has planted us. Whether you’ve joined us before or it
 ’s your first time\, we’d love to have you with us!
LAST-MODIFIED:20260422T141140
LOCATION:CTV - Fellowship Hall
SUMMARY:Highway Clean-Up
URL;VALUE=URI:https://www.christthevictor.net/events/highway-clean-up/2026-
 04-25
ATTACH;FILENAME=Highway-Cleanup-1.png;FMTTYPE=image/png:https://dq5pwpg1q8r
 u0.cloudfront.net/2026/04/22/21/11/40/3c1a1acb-60c4-44d4-a39b-425406b14886
 /Highway-Cleanup-1.png
END:VEVENT
END:VCALENDAR
