BEGIN:VCALENDAR
VERSION:2.0
PRODID:icalendar-ruby
CALSCALE:GREGORIAN
METHOD:PUBLISH
BEGIN:VEVENT
DTSTAMP:20260425T144709Z
UID:93-631806@christthevictor.net
DTSTART:20260508T180000Z
DTEND:20260508T230000Z
CLASS:PUBLIC
CREATED:20260422T140941
DESCRIPTION:Ladies\, you’re invited to join us for our Monthly Women’s 
 Luncheon on Friday\, May 8th at 11:00am!\nThis month\, we’ll be gatherin
 g at iHop in Queen Creek for a time of great food\, meaningful conversatio
 n\, and wonderful fellowship. It’s always such a special time to connect
 \, laugh\, and encourage one another—whether you come every month or it
 ’s your first time joining us!\n Location: iHop\n 20710 E Victoria Ln\n 
 Queen Creek\, AZ 85142\nAll women are welcome\, so feel free to invite a f
 riend\, neighbor\, or family member to come along with you!\n Please RSVP 
 at the link below so we can plan accordingly.\nWe can’t wait to spend th
 is time together with you! 
LAST-MODIFIED:20260422T140941
LOCATION:iHop | 20710 E Victoria Ln  Queen Creek\, AZ 85142
SUMMARY: Monthly Women’s Luncheon – May 
URL;VALUE=URI:https://www.christthevictor.net/events/monthly-women-s-lunche
 on-may/2026-05-08
ATTACH;FILENAME=AprilLadiesLuncheon.png;FMTTYPE=image/png:https://dq5pwpg1q
 8ru0.cloudfront.net/2026/04/22/21/09/40/703b09b2-afd0-49fc-9056-695573d07d
 11/AprilLadiesLuncheon.png
ATTACH;FILENAME=May-Womens-Luncheon.png;FMTTYPE=image/png:https://dq5pwpg1q
 8ru0.cloudfront.net/2026/04/22/21/09/40/7883423c-b633-4ee1-ac4c-fb0ebfc814
 31/May-Womens-Luncheon.png
END:VEVENT
END:VCALENDAR
