BEGIN:VCALENDAR
VERSION:2.0
PRODID:icalendar-ruby
CALSCALE:GREGORIAN
METHOD:PUBLISH
BEGIN:VEVENT
DTSTAMP:20260423T114212Z
UID:96-631813@christthevictor.net
DTSTART:20260426T160000Z
DTEND:20260427T050000Z
CLASS:PUBLIC
CREATED:20260422T142013
DESCRIPTION:On Sunday\, April 26th\, 2026\, we will be collecting a special
  Noisy Offering at both of our worship services. This is always a fun and 
 meaningful opportunity for our church family—especially our kids—to ma
 ke some joyful noise while supporting an incredible local ministry!\nThis 
 month\, our Noisy Offering will benefit Vineyard Pregnancy Center\, a mini
 stry serving families right here in Queen Creek and San Tan Valley.\nViney
 ard Pregnancy Center walks alongside new and expecting moms and dads\, off
 ering hope\, guidance\, and practical support during one of life’s most 
 important seasons. They provide free ultrasounds\, confidential pregnancy 
 testing\, and personalized support for individuals at every stage—from t
 hose who think they might be pregnant to parents already caring for a newb
 orn.\nTheir mission is to encourage\, educate\, and equip families for a h
 ealthy pregnancy and parenting journey. Through life-centered counseling\,
  parenting classes\, and compassionate care\, they help individuals naviga
 te unplanned pregnancies\, explore their options\, and even find healing f
 rom past experiences.\nThis is a wonderful opportunity for us as a church 
 to come alongside a ministry that reflects Christ’s love in such a tangi
 ble way.\nSo bring your coins (and bills!) and join us as we make a joyful
  noise for a great cause on April 26th!
LAST-MODIFIED:20260422T142013
LOCATION:CTV - Sanctuary
SUMMARY:Noisy Offering – Vineyard Pregnancy Center
URL;VALUE=URI:https://www.christthevictor.net/events/noisy-offering-vineyar
 d-pregnancy-center/2026-04-26
ATTACH;FILENAME=NoiseyOffering.png;FMTTYPE=image/png:https://dq5pwpg1q8ru0.
 cloudfront.net/2026/04/22/21/20/13/618cbbc3-e814-428c-9ffd-e528e40a273f/No
 iseyOffering.png
END:VEVENT
END:VCALENDAR
