BEGIN:VCALENDAR
VERSION:2.0
PRODID:icalendar-ruby
CALSCALE:GREGORIAN
METHOD:PUBLISH
BEGIN:VEVENT
DTSTAMP:20260425T144750Z
UID:95-631808@christthevictor.net
DTSTART:20260609T003000Z
DTEND:20260609T023000Z
CLASS:PUBLIC
CREATED:20260422T141629
DESCRIPTION:Get ready for an unforgettable adventure—Rainforest Falls VBS
  is coming to Christ the Victor! We are so excited to invite children to j
 oin us for a week filled with faith\, fun\, and discovery as we explore Go
 d’s love in a vibrant rainforest setting. From engaging Bible lessons to
  music\, games\, and hands-on activities\, kids will build friendships and
  grow in their faith—all in a safe and welcoming environment. Whether it
 ’s their first time or they come every year\, there’s something specia
 l waiting for everyone!\n June 8–12  5:30–7:30 PM  Ages 3 (potty train
 ed) through 6th grade\n Registration is officially open! Spots fill quickl
 y\, so be sure to sign up soon—and invite friends\, neighbors\, and clas
 smates to join the fun! \nChild Registration: https://christvictor.breeze
 chms.com/form/RainforestVBS \nVolunteer Sign-Up: https://christvictor.bre
 ezechms.com/form/RainforestVBSVolunteers\nAs we prepare for this exciting 
 week\, we would also love for our church family to be part of bringing Rai
 nforest Falls VBS to life through donations. We’ve created a sign-up wit
 h a variety of items needed to transform our church into a rainforest adve
 nture\, and if you’re able\, we invite you to take a moment to look thro
 ugh the list and sign up for any items you’d be willing to donate. These
  sign-ups help us stay organized and ensure all needs are covered\, making
  it simple for everyone to pitch in and be part of something special.  Sig
 n up here to donate: https://www.signupgenius.com/go/10C0844AAAA2AA4F8C34-
 63424990-rainforest#/\nThere are a few easy ways to get your donations to 
 us: \n Have items shipped directly to the church (6173 E Arizona Farms Rd
 .\, Florence\, AZ 85132)\n bring them with you to worship on Sunday\n  dr
 op them off at the church office (Monday–Thursday\, 8:00 AM–2:30 PM).
  \nSome of the requested items can also be borrowed and returned after VB
 S—just let us know when you sign up!\nWe can’t wait to see your kids t
 his summer for an incredible week at Rainforest Falls\, and thank you for 
 helping us create a meaningful\, fun\, and faith-filled experience where k
 ids can grow in their relationship with Jesus. 
LAST-MODIFIED:20260422T141629
LOCATION:
SUMMARY:Rainforest Falls Vacation Bible School
URL;VALUE=URI:https://www.christthevictor.net/events/rainforest-falls-vacat
 ion-bible-school/2026-06-08
ATTACH;FILENAME=RainforestFalls-VBS-CTV.png;FMTTYPE=image/png:https://dq5pw
 pg1q8ru0.cloudfront.net/2026/04/22/21/16/28/c5789f63-bbd4-4a8b-bbcb-aac731
 7f9d59/RainforestFalls-VBS-CTV.png
END:VEVENT
END:VCALENDAR
