BEGIN:VCALENDAR
VERSION:2.0
PRODID:icalendar-ruby
CALSCALE:GREGORIAN
METHOD:PUBLISH
BEGIN:VEVENT
DTSTAMP:20260425T144446Z
UID:97-631814@christthevictor.net
DTSTART:20260529T230000Z
DTEND:20260530T020000Z
CLASS:PUBLIC
CREATED:20260422T142121
DESCRIPTION:Join us as we kick off summer with a fun-filled Summer Splash a
 t the Chase family home!\n Friday\, May 29th\n  4:00–7:00 PM\nAll are we
 lcome to come enjoy an afternoon of swimming\, sunshine\, and great fellow
 ship. Whether you're jumping in the pool or relaxing poolside\, this is a 
 wonderful chance to connect with your church family and celebrate the star
 t of summer together.\nBring your swimsuit\, a towel\, and a friend—we
 ’d love to see you there!
LAST-MODIFIED:20260422T142121
LOCATION:Chase Family Home
SUMMARY: Summer Splash – Pool Party at the Chase Home!
URL;VALUE=URI:https://www.christthevictor.net/events/summer-splash-pool-par
 ty-at-the-chase-home/2026-05-29
ATTACH;FILENAME=Pastor-Chases-summer-pool-party.png;FMTTYPE=image/png:https
 ://dq5pwpg1q8ru0.cloudfront.net/2026/04/22/21/21/21/254abb6e-1c58-47e6-94c
 0-a8b8a34f8574/Pastor-Chases-summer-pool-party.png
END:VEVENT
END:VCALENDAR
