BEGIN:VCALENDAR
VERSION:2.0
PRODID:icalendar-ruby
CALSCALE:GREGORIAN
METHOD:PUBLISH
BEGIN:VEVENT
DTSTAMP:20260423T113939Z
UID:90-633874@christthevictor.net
DTSTART:20260426T154000Z
DTEND:20260426T170000Z
CLASS:PUBLIC
CREATED:20260422T201915
DESCRIPTION:
LAST-MODIFIED:20260422T201915
LOCATION:
SUMMARY:Sunday School
URL;VALUE=URI:https://www.christthevictor.net/events/sunday-school--90/2026
 -04-26
ATTACH;FILENAME=Kids_SS-ChristmasPreformance-0975.jpg;FMTTYPE=image/jpeg:ht
 tps://dq5pwpg1q8ru0.cloudfront.net/2026/04/22/20/17/56/9faeafc5-ca12-4791-
 8c97-65dd716be967/Kids_SS-ChristmasPreformance-0975.jpg
END:VEVENT
END:VCALENDAR
