BEGIN:VCALENDAR
VERSION:2.0
PRODID:icalendar-ruby
CALSCALE:GREGORIAN
METHOD:PUBLISH
BEGIN:VEVENT
DTSTAMP:20260423T114058Z
UID:88-633818@christthevictor.net
DTSTART:20260426T160000Z
DTEND:20260426T170000Z
CLASS:PUBLIC
CREATED:20260422T201915
DESCRIPTION:Summer Worship Schedule\nAs we approach the summer months\, man
 y of our winter visitors have begun heading back to cooler climates. We ar
 e so grateful for the time we’ve shared together this season and pray fo
 r safe travels as they make their way home.\nBeginning April 26th\, 2026\,
  we will transition to our summer worship schedule with a single service a
 t 9:00 AM each Sunday. Sunday School will begin at 8:50 AM (Sunday School 
 will go on break June-September)\, and fellowship will follow the service 
 at 10:00 AM. Bible Study will take place at 10:30 AM.\nThroughout the summ
 er\, our worship style will continue to include both Traditional and Conte
 mporary elements\, rotating between the two. As we bring in different musi
 cians to give Danielle a well-deserved break\, the schedule may not follow
  a strict every-other-week pattern. Some weeks may include multiple servic
 es of the same style in a row.\nWe appreciate your flexibility during this
  time and look forward to worshiping together each Sunday morning at 9:00 
 AM. Thank you for being such a faithful and supportive church family!
LAST-MODIFIED:20260422T201915
LOCATION:CTV - Sanctuary
SUMMARY:Worship Service
URL;VALUE=URI:https://www.christthevictor.net/events/worship-service--88/20
 26-04-26
ATTACH;FILENAME=untitled-4970.jpg;FMTTYPE=image/jpeg:https://dq5pwpg1q8ru0.
 cloudfront.net/2026/04/22/20/02/01/30323f28-3a3e-4229-bfc6-30c8d0dc2c05/un
 titled-4970.jpg
END:VEVENT
END:VCALENDAR
